Package: QuasR Version: 1.49.3 Command: /Library/Frameworks/R.framework/Resources/bin/R CMD INSTALL QuasR StartedAt: 2025-10-24 15:31:54 -0400 (Fri, 24 Oct 2025) EndedAt: 2025-10-24 15:32:21 -0400 (Fri, 24 Oct 2025) EllapsedTime: 26.7 seconds RetCode: 0 Status: OK