Package: QuasR Version: 1.49.3 Command: /Library/Frameworks/R.framework/Resources/bin/R CMD build --keep-empty-dirs --no-resave-data QuasR StartedAt: 2025-10-24 17:26:29 -0400 (Fri, 24 Oct 2025) EndedAt: 2025-10-24 17:28:25 -0400 (Fri, 24 Oct 2025) EllapsedTime: 116.4 seconds RetCode: 0 Status: OK PackageFile: QuasR_1.49.3.tar.gz PackageFileSize: 2.407 MiB