Package: QuasR Version: 1.49.3 Command: rm -rf QuasR.buildbin-libdir && mkdir QuasR.buildbin-libdir && /Users/biocbuild/BBS/utils/build-universal.sh QuasR_1.49.3.tar.gz /Library/Frameworks/R.framework/Resources/bin/R QuasR.buildbin-libdir StartedAt: 2025-10-24 23:15:14 -0400 (Fri, 24 Oct 2025) EndedAt: 2025-10-24 23:15:42 -0400 (Fri, 24 Oct 2025) EllapsedTime: 28.7 seconds RetCode: 0 Status: OK PackageFile: QuasR_1.49.3.tgz PackageFileSize: 3.418 MiB