Package: Qtlizer Version: 1.23.0 Command: /home/biocbuild/bbs-3.22-bioc/R/bin/R CMD INSTALL Qtlizer StartedAt: 2025-10-24 15:27:15 -0400 (Fri, 24 Oct 2025) EndedAt: 2025-10-24 15:27:17 -0400 (Fri, 24 Oct 2025) EllapsedTime: 2.0 seconds RetCode: 0 Status: OK