Package: QTLExperiment Version: 2.1.2 Command: /home/biocbuild/bbs-3.22-bioc/R/bin/R CMD INSTALL QTLExperiment StartedAt: 2025-10-24 15:35:00 -0400 (Fri, 24 Oct 2025) EndedAt: 2025-10-24 15:35:26 -0400 (Fri, 24 Oct 2025) EllapsedTime: 26.3 seconds RetCode: 0 Status: OK