Package: QSutils Version: 1.28.0 Command: /Library/Frameworks/R.framework/Resources/bin/R CMD build --keep-empty-dirs --no-resave-data QSutils StartedAt: 2025-11-03 18:21:02 -0500 (Mon, 03 Nov 2025) EndedAt: 2025-11-03 18:23:00 -0500 (Mon, 03 Nov 2025) EllapsedTime: 117.8 seconds RetCode: 0 Status: OK PackageFile: QSutils_1.28.0.tar.gz PackageFileSize: 1.321 MiB