Package: QSutils Version: 1.27.0 Command: /Library/Frameworks/R.framework/Resources/bin/R CMD INSTALL QSutils StartedAt: 2025-10-24 15:29:03 -0400 (Fri, 24 Oct 2025) EndedAt: 2025-10-24 15:29:08 -0400 (Fri, 24 Oct 2025) EllapsedTime: 5.3 seconds RetCode: 0 Status: OK