Package: QSutils Version: 1.27.0 Command: /Library/Frameworks/R.framework/Resources/bin/R CMD build --keep-empty-dirs --no-resave-data QSutils StartedAt: 2025-10-24 17:26:10 -0400 (Fri, 24 Oct 2025) EndedAt: 2025-10-24 17:26:48 -0400 (Fri, 24 Oct 2025) EllapsedTime: 38.5 seconds RetCode: 0 Status: OK PackageFile: QSutils_1.27.0.tar.gz PackageFileSize: 1.322 MiB