Package: QSutils Version: 1.27.0 Command: rm -rf QSutils.buildbin-libdir && mkdir QSutils.buildbin-libdir && /Users/biocbuild/BBS/utils/build-universal.sh QSutils_1.27.0.tar.gz /Library/Frameworks/R.framework/Resources/bin/R QSutils.buildbin-libdir StartedAt: 2025-10-24 23:15:09 -0400 (Fri, 24 Oct 2025) EndedAt: 2025-10-24 23:15:16 -0400 (Fri, 24 Oct 2025) EllapsedTime: 6.1 seconds RetCode: 0 Status: OK PackageFile: QSutils_1.27.0.tgz PackageFileSize: 1.441 MiB