Package: QRscore Version: 1.2.0 Command: /home/biocbuild/bbs-3.22-bioc/R/bin/R CMD INSTALL QRscore StartedAt: 2025-11-06 15:08:26 -0500 (Thu, 06 Nov 2025) EndedAt: 2025-11-06 15:08:33 -0500 (Thu, 06 Nov 2025) EllapsedTime: 7.4 seconds RetCode: 0 Status: OK