Package: QFeatures Version: 1.20.0 Command: /Library/Frameworks/R.framework/Resources/bin/R CMD INSTALL QFeatures StartedAt: 2025-11-03 15:26:19 -0500 (Mon, 03 Nov 2025) EndedAt: 2025-11-03 15:26:59 -0500 (Mon, 03 Nov 2025) EllapsedTime: 40.4 seconds RetCode: 0 Status: OK