Package: QFeatures Version: 1.20.0 Command: /Library/Frameworks/R.framework/Resources/bin/R CMD build --keep-empty-dirs --no-resave-data QFeatures StartedAt: 2025-11-03 18:20:21 -0500 (Mon, 03 Nov 2025) EndedAt: 2025-11-03 18:22:06 -0500 (Mon, 03 Nov 2025) EllapsedTime: 105.1 seconds RetCode: 0 Status: OK PackageFile: QFeatures_1.20.0.tar.gz PackageFileSize: 5.059 MiB