Package: QFeatures Version: 1.20.0 Command: rm -rf QFeatures.buildbin-libdir && mkdir QFeatures.buildbin-libdir && /Users/biocbuild/BBS/utils/build-universal.sh QFeatures_1.20.0.tar.gz /Library/Frameworks/R.framework/Resources/bin/R QFeatures.buildbin-libdir StartedAt: 2025-11-04 01:57:17 -0500 (Tue, 04 Nov 2025) EndedAt: 2025-11-04 01:58:05 -0500 (Tue, 04 Nov 2025) EllapsedTime: 47.4 seconds RetCode: 0 Status: OK PackageFile: QFeatures_1.20.0.tgz PackageFileSize: 5.006 MiB