Package: QFeatures Version: 1.19.4 Command: /Library/Frameworks/R.framework/Resources/bin/R CMD INSTALL QFeatures StartedAt: 2025-10-24 15:21:58 -0400 (Fri, 24 Oct 2025) EndedAt: 2025-10-24 15:22:10 -0400 (Fri, 24 Oct 2025) EllapsedTime: 11.8 seconds RetCode: 0 Status: OK