Package: QFeatures Version: 1.19.4 Command: /Library/Frameworks/R.framework/Resources/bin/R CMD build --keep-empty-dirs --no-resave-data QFeatures StartedAt: 2025-10-24 17:26:00 -0400 (Fri, 24 Oct 2025) EndedAt: 2025-10-24 17:26:38 -0400 (Fri, 24 Oct 2025) EllapsedTime: 38.5 seconds RetCode: 0 Status: OK PackageFile: QFeatures_1.19.4.tar.gz PackageFileSize: 5.062 MiB