Package: QFeatures Version: 1.20.0 Maintainer: Laurent Gatto MaintainerEmail: laurent.gatto at uclouvain.be git_url: https://git.bioconductor.org/packages/QFeatures git_branch: RELEASE_3_22 git_last_commit: bde5b54 git_last_commit_date: 2025-10-29 11:01:30 -0500 (Wed, 29 Oct 2025)