Package: QDNAseq Version: 1.45.1 Command: /home/biocbuild/bbs-3.22-bioc/R/bin/R CMD INSTALL QDNAseq StartedAt: 2025-10-24 15:26:35 -0400 (Fri, 24 Oct 2025) EndedAt: 2025-10-24 15:26:53 -0400 (Fri, 24 Oct 2025) EllapsedTime: 17.6 seconds RetCode: 0 Status: OK