Package: Pviz Version: 1.43.0 Command: /home/biocbuild/bbs-3.22-bioc/R/bin/R CMD INSTALL Pviz StartedAt: 2025-10-24 15:58:41 -0400 (Fri, 24 Oct 2025) EndedAt: 2025-10-24 16:00:04 -0400 (Fri, 24 Oct 2025) EllapsedTime: 82.6 seconds RetCode: 0 Status: OK