Package: Pviz Version: 1.43.0 Command: /home/biocbuild/bbs-3.22-bioc/R/bin/R CMD build --keep-empty-dirs --no-resave-data --md5 Pviz StartedAt: 2025-10-24 19:34:39 -0400 (Fri, 24 Oct 2025) EndedAt: 2025-10-24 19:36:36 -0400 (Fri, 24 Oct 2025) EllapsedTime: 117.1 seconds RetCode: 0 Status: OK PackageFile: Pviz_1.43.0.tar.gz PackageFileSize: 204.1 KiB