Package: Pviz Version: 1.43.0 Command: /Library/Frameworks/R.framework/Resources/bin/R CMD INSTALL Pviz StartedAt: 2025-10-24 15:27:12 -0400 (Fri, 24 Oct 2025) EndedAt: 2025-10-24 15:27:48 -0400 (Fri, 24 Oct 2025) EllapsedTime: 35.7 seconds RetCode: 0 Status: OK