Package: Pviz Version: 1.43.0 Command: /Library/Frameworks/R.framework/Resources/bin/R CMD build --keep-empty-dirs --no-resave-data Pviz StartedAt: 2025-10-24 17:25:32 -0400 (Fri, 24 Oct 2025) EndedAt: 2025-10-24 17:26:25 -0400 (Fri, 24 Oct 2025) EllapsedTime: 52.6 seconds RetCode: 0 Status: OK PackageFile: Pviz_1.43.0.tar.gz PackageFileSize: 203.2 KiB