Package: Pviz Version: 1.43.0 Command: rm -rf Pviz.buildbin-libdir && mkdir Pviz.buildbin-libdir && /Users/biocbuild/BBS/utils/build-universal.sh Pviz_1.43.0.tar.gz /Library/Frameworks/R.framework/Resources/bin/R Pviz.buildbin-libdir StartedAt: 2025-10-24 23:14:59 -0400 (Fri, 24 Oct 2025) EndedAt: 2025-10-24 23:15:37 -0400 (Fri, 24 Oct 2025) EllapsedTime: 37.9 seconds RetCode: 0 Status: OK PackageFile: Pviz_1.43.0.tgz PackageFileSize: 671.8 KiB