Package: PureCN Version: 2.15.4 Command: /home/biocbuild/bbs-3.22-bioc/R/bin/R CMD INSTALL PureCN StartedAt: 2025-10-24 15:56:12 -0400 (Fri, 24 Oct 2025) EndedAt: 2025-10-24 15:57:02 -0400 (Fri, 24 Oct 2025) EllapsedTime: 50.4 seconds RetCode: 0 Status: OK