Package: PureCN Version: 2.15.4 Command: /home/biocbuild/bbs-3.22-bioc/R/bin/R CMD build --keep-empty-dirs --no-resave-data --md5 PureCN StartedAt: 2025-10-24 19:34:17 -0400 (Fri, 24 Oct 2025) EndedAt: 2025-10-24 19:38:24 -0400 (Fri, 24 Oct 2025) EllapsedTime: 247.2 seconds RetCode: 0 Status: OK PackageFile: PureCN_2.15.4.tar.gz PackageFileSize: 5.73 MiB