Package: ProteoMM Version: 1.27.0 Command: /home/biocbuild/bbs-3.22-bioc/R/bin/R CMD INSTALL ProteoMM StartedAt: 2025-10-24 15:36:55 -0400 (Fri, 24 Oct 2025) EndedAt: 2025-10-24 15:37:01 -0400 (Fri, 24 Oct 2025) EllapsedTime: 6.4 seconds RetCode: 0 Status: OK