Package: ProteoDisco Version: 1.15.1 Command: /home/biocbuild/bbs-3.22-bioc/R/bin/R CMD INSTALL ProteoDisco StartedAt: 2025-10-24 15:56:32 -0400 (Fri, 24 Oct 2025) EndedAt: 2025-10-24 15:57:24 -0400 (Fri, 24 Oct 2025) EllapsedTime: 52.1 seconds RetCode: 0 Status: OK