Package: ProtGenerics Version: 1.41.0 Command: /home/biocbuild/bbs-3.22-bioc/R/bin/R CMD check --install=check:ProtGenerics.install-out.txt --library=/home/biocbuild/bbs-3.22-bioc/R/site-library --timings ProtGenerics_1.41.0.tar.gz StartedAt: 2025-10-28 02:58:25 -0400 (Tue, 28 Oct 2025) EndedAt: 2025-10-28 02:58:42 -0400 (Tue, 28 Oct 2025) EllapsedTime: 17.0 seconds RetCode: 0 Status: OK CheckDir: ProtGenerics.Rcheck Warnings: 0