Package: ProtGenerics Version: 1.41.0 Command: /Library/Frameworks/R.framework/Resources/bin/R CMD build --keep-empty-dirs --no-resave-data ProtGenerics StartedAt: 2025-10-27 18:13:13 -0400 (Mon, 27 Oct 2025) EndedAt: 2025-10-27 18:13:14 -0400 (Mon, 27 Oct 2025) EllapsedTime: 1.1 seconds RetCode: 0 Status: OK PackageFile: ProtGenerics_1.41.0.tar.gz PackageFileSize: 10.88 KiB