Package: Prostar Version: 1.41.0 Command: /home/biocbuild/bbs-3.22-bioc/R/bin/R CMD INSTALL Prostar StartedAt: 2025-10-24 15:48:49 -0400 (Fri, 24 Oct 2025) EndedAt: 2025-10-24 15:49:29 -0400 (Fri, 24 Oct 2025) EllapsedTime: 39.9 seconds RetCode: 0 Status: OK