Package: Prostar Version: 1.42.0 Command: /Library/Frameworks/R.framework/Resources/bin/R CMD INSTALL Prostar StartedAt: 2025-11-06 15:22:35 -0500 (Thu, 06 Nov 2025) EndedAt: 2025-11-06 15:22:51 -0500 (Thu, 06 Nov 2025) EllapsedTime: 16.4 seconds RetCode: 0 Status: OK