Package: Prostar Version: 1.42.0 Command: rm -rf Prostar.buildbin-libdir && mkdir Prostar.buildbin-libdir && /Users/biocbuild/BBS/utils/build-universal.sh Prostar_1.42.0.tar.gz /Library/Frameworks/R.framework/Resources/bin/R Prostar.buildbin-libdir StartedAt: 2025-11-06 23:16:55 -0500 (Thu, 06 Nov 2025) EndedAt: 2025-11-06 23:17:12 -0500 (Thu, 06 Nov 2025) EllapsedTime: 17.3 seconds RetCode: 0 Status: OK PackageFile: Prostar_1.42.0.tgz PackageFileSize: 1.563 MiB