Package: PrInCE Version: 1.25.0 Command: /home/biocbuild/bbs-3.22-bioc/R/bin/R CMD build --keep-empty-dirs --no-resave-data --md5 PrInCE StartedAt: 2025-10-27 19:22:39 -0400 (Mon, 27 Oct 2025) EndedAt: 2025-10-27 19:25:13 -0400 (Mon, 27 Oct 2025) EllapsedTime: 154.1 seconds RetCode: 0 Status: OK PackageFile: PrInCE_1.25.0.tar.gz PackageFileSize: 1.864 MiB