Package: PrInCE Version: 1.26.0 Command: /Library/Frameworks/R.framework/Resources/bin/R CMD build --keep-empty-dirs --no-resave-data PrInCE StartedAt: 2025-10-31 17:26:45 -0400 (Fri, 31 Oct 2025) EndedAt: 2025-10-31 17:27:53 -0400 (Fri, 31 Oct 2025) EllapsedTime: 67.8 seconds RetCode: 0 Status: OK PackageFile: PrInCE_1.26.0.tar.gz PackageFileSize: 1.82 MiB