Package: PolySTest Version: 1.3.1 Command: /home/biocbuild/bbs-3.22-bioc/R/bin/R CMD INSTALL PolySTest StartedAt: 2025-10-24 15:29:03 -0400 (Fri, 24 Oct 2025) EndedAt: 2025-10-24 15:29:30 -0400 (Fri, 24 Oct 2025) EllapsedTime: 26.9 seconds RetCode: 0 Status: OK