Package: PolySTest Version: 1.4.0 Command: /home/biocbuild/bbs-3.22-bioc/R/bin/R CMD check --install=check:PolySTest.install-out.txt --library=/home/biocbuild/bbs-3.22-bioc/R/site-library --timings PolySTest_1.4.0.tar.gz StartedAt: 2025-11-03 03:04:55 -0500 (Mon, 03 Nov 2025) EndedAt: 2025-11-03 03:14:08 -0500 (Mon, 03 Nov 2025) EllapsedTime: 552.5 seconds RetCode: 0 Status: OK CheckDir: PolySTest.Rcheck Warnings: 0