Package: PolySTest Version: 1.3.1 Command: /home/biocbuild/bbs-3.22-bioc/R/bin/R CMD build --keep-empty-dirs --no-resave-data --md5 PolySTest StartedAt: 2025-10-24 19:29:22 -0400 (Fri, 24 Oct 2025) EndedAt: 2025-10-24 19:31:09 -0400 (Fri, 24 Oct 2025) EllapsedTime: 107.1 seconds RetCode: 0 Status: OK PackageFile: PolySTest_1.3.1.tar.gz PackageFileSize: 2.108 MiB