Package: PolySTest Version: 1.4.0 Command: /Library/Frameworks/R.framework/Resources/bin/R CMD INSTALL PolySTest StartedAt: 2025-10-29 22:04:09 -0400 (Wed, 29 Oct 2025) EndedAt: 2025-10-29 22:04:45 -0400 (Wed, 29 Oct 2025) EllapsedTime: 35.7 seconds RetCode: 0 Status: OK