Package: PolySTest Version: 1.4.0 Command: /Library/Frameworks/R.framework/Resources/bin/R CMD build --keep-empty-dirs --no-resave-data PolySTest StartedAt: 2025-10-30 00:56:17 -0400 (Thu, 30 Oct 2025) EndedAt: 2025-10-30 00:58:17 -0400 (Thu, 30 Oct 2025) EllapsedTime: 119.8 seconds RetCode: 0 Status: OK PackageFile: PolySTest_1.4.0.tar.gz PackageFileSize: 2.138 MiB