Package: PolySTest Version: 1.4.0 Command: rm -rf PolySTest.buildbin-libdir && mkdir PolySTest.buildbin-libdir && /Users/biocbuild/BBS/utils/build-universal.sh PolySTest_1.4.0.tar.gz /Library/Frameworks/R.framework/Resources/bin/R PolySTest.buildbin-libdir StartedAt: 2025-10-30 08:31:27 -0400 (Thu, 30 Oct 2025) EndedAt: 2025-10-30 08:32:06 -0400 (Thu, 30 Oct 2025) EllapsedTime: 39.7 seconds RetCode: 0 Status: OK PackageFile: PolySTest_1.4.0.tgz PackageFileSize: 2.257 MiB