Package: PolySTest Version: 1.3.1 Command: /Library/Frameworks/R.framework/Resources/bin/R CMD build --keep-empty-dirs --no-resave-data PolySTest StartedAt: 2025-10-24 17:23:00 -0400 (Fri, 24 Oct 2025) EndedAt: 2025-10-24 17:23:44 -0400 (Fri, 24 Oct 2025) EllapsedTime: 44.5 seconds RetCode: 0 Status: OK PackageFile: PolySTest_1.3.1.tar.gz PackageFileSize: 2.162 MiB