Package: PolySTest Version: 1.4.0 Maintainer: Veit Schwämmle MaintainerEmail: veits at bmb.sdu.dk git_url: https://git.bioconductor.org/packages/PolySTest git_branch: RELEASE_3_22 git_last_commit: 2c8f878 git_last_commit_date: 2025-10-29 11:31:01 -0400 (Wed, 29 Oct 2025)