Package: Pirat Version: 1.3.7 Command: /home/biocbuild/bbs-3.22-bioc/R/bin/R CMD INSTALL Pirat StartedAt: 2025-10-28 15:20:20 -0400 (Tue, 28 Oct 2025) EndedAt: 2025-10-28 15:20:38 -0400 (Tue, 28 Oct 2025) EllapsedTime: 17.7 seconds RetCode: 0 Status: OK