Package: Pirat Version: 1.3.7 Command: /home/biocbuild/bbs-3.22-bioc/R/bin/R CMD build --keep-empty-dirs --no-resave-data --md5 Pirat StartedAt: 2025-10-28 19:17:39 -0400 (Tue, 28 Oct 2025) EndedAt: 2025-10-28 19:18:12 -0400 (Tue, 28 Oct 2025) EllapsedTime: 33.0 seconds RetCode: 1 Status: ERROR PackageFile: None PackageFileSize: NA