Package: Pigengene Version: 1.35.0 Command: /home/biocbuild/bbs-3.22-bioc/R/bin/R CMD build --keep-empty-dirs --no-resave-data --md5 Pigengene StartedAt: 2025-10-24 19:27:15 -0400 (Fri, 24 Oct 2025) EndedAt: 2025-10-24 19:30:13 -0400 (Fri, 24 Oct 2025) EllapsedTime: 178.2 seconds RetCode: 0 Status: OK PackageFile: Pigengene_1.35.0.tar.gz PackageFileSize: 2.701 MiB