Package: PhyloProfile Version: 2.1.13 Command: /home/biocbuild/bbs-3.22-bioc/R/bin/R CMD INSTALL PhyloProfile StartedAt: 2025-10-24 15:25:58 -0400 (Fri, 24 Oct 2025) EndedAt: 2025-10-24 15:26:20 -0400 (Fri, 24 Oct 2025) EllapsedTime: 21.7 seconds RetCode: 0 Status: OK