Package: PhyloProfile Version: 2.1.13 Command: /home/biocbuild/bbs-3.22-bioc/R/bin/R CMD build --keep-empty-dirs --no-resave-data --md5 PhyloProfile StartedAt: 2025-10-27 19:18:38 -0400 (Mon, 27 Oct 2025) EndedAt: 2025-10-27 19:19:17 -0400 (Mon, 27 Oct 2025) EllapsedTime: 39.0 seconds RetCode: 0 Status: OK PackageFile: PhyloProfile_2.1.13.tar.gz PackageFileSize: 1.434 MiB