Package: PhosR Version: 1.19.2 Command: /home/biocbuild/bbs-3.22-bioc/R/bin/R CMD build --keep-empty-dirs --no-resave-data --md5 PhosR StartedAt: 2025-10-24 19:26:36 -0400 (Fri, 24 Oct 2025) EndedAt: 2025-10-24 19:29:43 -0400 (Fri, 24 Oct 2025) EllapsedTime: 187.2 seconds RetCode: 0 Status: OK PackageFile: PhosR_1.19.2.tar.gz PackageFileSize: 7.429 MiB