Package: PhosR Version: 1.19.2 Command: /Library/Frameworks/R.framework/Resources/bin/R CMD build --keep-empty-dirs --no-resave-data PhosR StartedAt: 2025-10-24 17:21:38 -0400 (Fri, 24 Oct 2025) EndedAt: 2025-10-24 17:22:47 -0400 (Fri, 24 Oct 2025) EllapsedTime: 69.8 seconds RetCode: 0 Status: OK PackageFile: PhosR_1.19.2.tar.gz PackageFileSize: 7.962 MiB