Package: PhosR Version: 1.19.2 Command: rm -rf PhosR.buildbin-libdir && mkdir PhosR.buildbin-libdir && /Users/biocbuild/BBS/utils/build-universal.sh PhosR_1.19.2.tar.gz /Library/Frameworks/R.framework/Resources/bin/R PhosR.buildbin-libdir StartedAt: 2025-10-24 23:14:02 -0400 (Fri, 24 Oct 2025) EndedAt: 2025-10-24 23:14:15 -0400 (Fri, 24 Oct 2025) EllapsedTime: 13.4 seconds RetCode: 0 Status: OK PackageFile: PhosR_1.19.2.tgz PackageFileSize: 6.013 MiB