Package: PhenStat Version: 2.45.1 Command: /home/biocbuild/bbs-3.22-bioc/R/bin/R CMD INSTALL PhenStat StartedAt: 2025-10-24 16:18:14 -0400 (Fri, 24 Oct 2025) EndedAt: 2025-10-24 16:18:14 -0400 (Fri, 24 Oct 2025) EllapsedTime: 0.2 seconds RetCode: 1 Status: ERROR